BEGIN:VCALENDAR
VERSION:2.0
PRODID:-//103.250.90.114//NONSGML kigkonsult.se iCalcreator 2.20//
CALSCALE:GREGORIAN
METHOD:PUBLISH
X-WR-CALNAME:Kaimai Presbytery
X-WR-CALDESC:Presbyterian Church of Aotearoa New Zealand
X-FROM-URL:http://kaimaipresbytery.org.nz/content
X-WR-TIMEZONE:Pacific/Auckland
BEGIN:VTIMEZONE
TZID:Pacific/Auckland
X-LIC-LOCATION:Pacific/Auckland
BEGIN:STANDARD
DTSTART:20190407T030000
TZOFFSETFROM:+1300
TZOFFSETTO:+1200
TZNAME:NZST
END:STANDARD
BEGIN:DAYLIGHT
DTSTART:20180930T020000
TZOFFSETFROM:+1200
TZOFFSETTO:+1300
TZNAME:NZDT
END:DAYLIGHT
END:VTIMEZONE
BEGIN:VEVENT
UID:ai1ec-3056@kaimaipresbytery.org.nz/content
DTSTAMP:20181224T104016Z
CATEGORIES:
CONTACT:http://pym.org.nz/wof/
DESCRIPTION:<p dir='ltr'>The warrant of fitness training day encompasses vi
 tal training on the youth and children’s code of ethics and health and saf
 ety practices and is strongly recommended for all leaders working with chi
 ldren or youth.</p>\n<p> </p>\n<p dir='ltr'>For more information on the WO
 F training please visit <a href='https://googleapps.insight.ly/tracker/ema
 ilclick?i=345224&eid=49821481&url=http://pym.org.nz/wof/' target='_blank' 
 rel='noopener' data-saferedirecturl='https://www.google.com/url?hl=en-GB&q
 =https://googleapps.insight.ly/tracker/emailclick?i%3D345224%26eid%3D49821
 481%26url%3Dhttp://pym.org.nz/wof/&source=gmail&ust=1538630413067000&usg=A
 FQjCNGTlDpa5DJhSLIAQGm3rpp60mG-Rw'>http://pym.org.nz/wof/</a></p>\n<p dir=
 'ltr'>\n<p dir='ltr'>Participants must attend the full day in order to rec
 eive the PCANZ WOF certificate.</p>\n<p dir='ltr'>Morning tea provided\, p
 lease bring your own lunch.</p>\n<p> </p>\n<p dir='ltr'><a href='https://d
 ocs.google.com/forms/d/e/1FAIpQLScvPrljbjxVP60rUPDIbRq8AD3VsFmqgEwtDK9w3rp
 Iew6gpQ/viewform?usp=sf_link' target='_blank' rel='noopener' data-saferedi
 recturl='https://www.google.com/url?hl=en-GB&q=https://docs.google.com/for
 ms/d/e/1FAIpQLScvPrljbjxVP60rUPDIbRq8AD3VsFmqgEwtDK9w3rpIew6gpQ/viewform?u
 sp%3Dsf_link&source=gmail&ust=1538630413067000&usg=AFQjCNG-lsgSXoehZXUq0Gy
 hGniGYZg3Cg'>Please click here to register</a></p>
DTSTART;TZID=Pacific/Auckland:20181117T093000
DTEND;TZID=Pacific/Auckland:20181117T143000
LOCATION:Rotorua RDPC temporary building  @ 276 Fenton St Rotorua
SEQUENCE:0
SUMMARY:PCANZ Children’s and Youth Leaders Safety Warrant of Fitness Traini
 ng
URL:http://kaimaipresbytery.org.nz/content/event/pcanz-childrens-and-youth-
 leaders-safety-warrant-of-fitness-training/
X-COST-TYPE:free
X-COST:gold coin donation to cover morning tea\, bring your own lunch
END:VEVENT
END:VCALENDAR
